BEGIN:VCALENDAR
VERSION:2.0
PRODID:-//Harriet Tubman Freedom Fighters - ECPv6.15.20//NONSGML v1.0//EN
CALSCALE:GREGORIAN
METHOD:PUBLISH
X-ORIGINAL-URL:https://htff.us
X-WR-CALDESC:Events for Harriet Tubman Freedom Fighters
REFRESH-INTERVAL;VALUE=DURATION:PT1H
X-Robots-Tag:noindex
X-PUBLISHED-TTL:PT1H
BEGIN:VTIMEZONE
TZID:America/New_York
BEGIN:DAYLIGHT
TZOFFSETFROM:-0500
TZOFFSETTO:-0400
TZNAME:EDT
DTSTART:20230312T070000
END:DAYLIGHT
BEGIN:STANDARD
TZOFFSETFROM:-0400
TZOFFSETTO:-0500
TZNAME:EST
DTSTART:20231105T060000
END:STANDARD
BEGIN:DAYLIGHT
TZOFFSETFROM:-0500
TZOFFSETTO:-0400
TZNAME:EDT
DTSTART:20240310T070000
END:DAYLIGHT
BEGIN:STANDARD
TZOFFSETFROM:-0400
TZOFFSETTO:-0500
TZNAME:EST
DTSTART:20241103T060000
END:STANDARD
BEGIN:DAYLIGHT
TZOFFSETFROM:-0500
TZOFFSETTO:-0400
TZNAME:EDT
DTSTART:20250309T070000
END:DAYLIGHT
BEGIN:STANDARD
TZOFFSETFROM:-0400
TZOFFSETTO:-0500
TZNAME:EST
DTSTART:20251102T060000
END:STANDARD
BEGIN:DAYLIGHT
TZOFFSETFROM:-0500
TZOFFSETTO:-0400
TZNAME:EDT
DTSTART:20260308T070000
END:DAYLIGHT
BEGIN:STANDARD
TZOFFSETFROM:-0400
TZOFFSETTO:-0500
TZNAME:EST
DTSTART:20261101T060000
END:STANDARD
BEGIN:DAYLIGHT
TZOFFSETFROM:-0500
TZOFFSETTO:-0400
TZNAME:EDT
DTSTART:20270314T070000
END:DAYLIGHT
BEGIN:STANDARD
TZOFFSETFROM:-0400
TZOFFSETTO:-0500
TZNAME:EST
DTSTART:20271107T060000
END:STANDARD
END:VTIMEZONE
BEGIN:VEVENT
DTSTART;TZID=America/New_York:20260321T110000
DTEND;TZID=America/New_York:20260321T160000
DTSTAMP:20260422T180233
CREATED:20260226T162753Z
LAST-MODIFIED:20260226T163131Z
UID:10000139-1774090800-1774108800@htff.us
SUMMARY:Grand Park Community Resource Health Fair
DESCRIPTION:Connecting families to vital health services and community resources. This health fair is designed to be a one-stop shop for families seeking information\, support\, and access to resources that can improve their overall well-being. We will have representatives from various organizations offering information on health insurance\, mental health support\, financial literacy\, and local community programs. Attendees can expect a welcoming and informative environment where they can learn\, connect\, and find the resources they need to thrive.
URL:https://htff.us/event/htff-invites-everyone-in-the-community-to-join-us/
LOCATION:Johnnie Walker Community Center\, 2500 W 20th St\, Jacksonville\, FL\, 32209\, United States
ATTACH;FMTTYPE=image/webp:https://htff.us/wp-content/uploads/2023/09/GMG2B-2BHTFF2BWhite2BLogo-1.webp
END:VEVENT
BEGIN:VEVENT
DTSTART;TZID=America/New_York:20260317T183000
DTEND;TZID=America/New_York:20260317T210000
DTSTAMP:20260422T180233
CREATED:20260226T160331Z
LAST-MODIFIED:20260226T161056Z
UID:10000138-1773772200-1773781200@htff.us
SUMMARY:Turn Out the Vote Meeting
DESCRIPTION:Turn Out the Vote Meeting to discuss \nThis meeting focuses on strategic preparations for the upcoming May 2026 District 10 civic engagement initiative. We will discuss key strategies\, resource allocation\, and potential challenges to ensure a successful and impactful initiative.
URL:https://htff.us/event/turn-out-the-vote-meeting/
LOCATION:The Legend Center\, 5130 Soutel Dr\, Jacksonville\, FL\, 32209\, United States
ATTACH;FMTTYPE=image/jpeg:https://htff.us/wp-content/uploads/2026/01/poster_board_Breaking_the_Chains-DONATE.jpg
ORGANIZER;CN="Rosemary McCoy":MAILTO:mccoy4real.3w1@gmail.com
END:VEVENT
BEGIN:VEVENT
DTSTART;TZID=America/New_York:20260311T110000
DTEND;TZID=America/New_York:20260311T140000
DTSTAMP:20260422T180233
CREATED:20260226T153917Z
LAST-MODIFIED:20260226T154731Z
UID:10000137-1773226800-1773237600@htff.us
SUMMARY:Women’s History Celebration
DESCRIPTION:
URL:https://htff.us/event/womens-history-celebration/
LOCATION:FSCJ South Campus Bldg\, U Corridor\, Jacksonville\, FL\, United States
ATTACH;FMTTYPE=image/webp:https://htff.us/wp-content/uploads/2026/02/image-asset.webp
ORGANIZER;CN="Rosemary McCoy":MAILTO:mccoy4real.3w1@gmail.com
END:VEVENT
BEGIN:VEVENT
DTSTART;TZID=America/New_York:20260228T130000
DTEND;TZID=America/New_York:20260228T190000
DTSTAMP:20260422T180233
CREATED:20260226T143452Z
LAST-MODIFIED:20260226T143452Z
UID:10000135-1772283600-1772305200@htff.us
SUMMARY:Black History Parade and Melanin Market
DESCRIPTION:Celebrating Culture\, Commerce & Community\nJoin us\, you’re invited to experience:\n\nA celebration of heritage and resilience\nA vibrant community parade\nBlack-owned vendors and entrepreneurs\nCultural performances and artistic expression\nOpportunities to network\, shop\, and support local businesses
URL:https://htff.us/event/black-history-parade-and-melanin-market/
ATTACH;FMTTYPE=image/avif:https://htff.us/wp-content/uploads/2026/02/252599_92a23560f0074080811c85fa3633904amv2-1-1.avif
ORGANIZER;CN="Rosemary McCoy":MAILTO:mccoy4real.3w1@gmail.com
END:VEVENT
BEGIN:VEVENT
DTSTART;VALUE=DATE:20250526
DTEND;VALUE=DATE:20250826
DTSTAMP:20260422T180233
CREATED:20240123T111755Z
LAST-MODIFIED:20240123T112034Z
UID:10000132-1748217600-1756162799@htff.us
SUMMARY:Example Event 1
DESCRIPTION:
URL:https://htff.us/event/example-event-1/2025-05-26/
ORGANIZER;CN="Rosemary McCoy":MAILTO:mccoy4real.3w1@gmail.com
END:VEVENT
BEGIN:VEVENT
DTSTART;VALUE=DATE:20250519
DTEND;VALUE=DATE:20250819
DTSTAMP:20260422T180233
CREATED:20240123T111755Z
LAST-MODIFIED:20240123T112034Z
UID:10000131-1747612800-1755557999@htff.us
SUMMARY:Example Event 1
DESCRIPTION:
URL:https://htff.us/event/example-event-1/2025-05-19/
ORGANIZER;CN="Rosemary McCoy":MAILTO:mccoy4real.3w1@gmail.com
END:VEVENT
BEGIN:VEVENT
DTSTART;VALUE=DATE:20250512
DTEND;VALUE=DATE:20250812
DTSTAMP:20260422T180233
CREATED:20240123T111755Z
LAST-MODIFIED:20240123T112034Z
UID:10000130-1747008000-1754953199@htff.us
SUMMARY:Example Event 1
DESCRIPTION:
URL:https://htff.us/event/example-event-1/2025-05-12/
ORGANIZER;CN="Rosemary McCoy":MAILTO:mccoy4real.3w1@gmail.com
END:VEVENT
BEGIN:VEVENT
DTSTART;VALUE=DATE:20250505
DTEND;VALUE=DATE:20250805
DTSTAMP:20260422T180233
CREATED:20240123T111755Z
LAST-MODIFIED:20240123T112034Z
UID:10000129-1746403200-1754348399@htff.us
SUMMARY:Example Event 1
DESCRIPTION:
URL:https://htff.us/event/example-event-1/2025-05-05/
ORGANIZER;CN="Rosemary McCoy":MAILTO:mccoy4real.3w1@gmail.com
END:VEVENT
BEGIN:VEVENT
DTSTART;VALUE=DATE:20250428
DTEND;VALUE=DATE:20250729
DTSTAMP:20260422T180233
CREATED:20240123T111755Z
LAST-MODIFIED:20240123T112034Z
UID:10000128-1745798400-1753743599@htff.us
SUMMARY:Example Event 1
DESCRIPTION:
URL:https://htff.us/event/example-event-1/2025-04-28/
ORGANIZER;CN="Rosemary McCoy":MAILTO:mccoy4real.3w1@gmail.com
END:VEVENT
BEGIN:VEVENT
DTSTART;VALUE=DATE:20250421
DTEND;VALUE=DATE:20250722
DTSTAMP:20260422T180233
CREATED:20240123T111755Z
LAST-MODIFIED:20240123T112034Z
UID:10000127-1745193600-1753138799@htff.us
SUMMARY:Example Event 1
DESCRIPTION:
URL:https://htff.us/event/example-event-1/2025-04-21/
ORGANIZER;CN="Rosemary McCoy":MAILTO:mccoy4real.3w1@gmail.com
END:VEVENT
BEGIN:VEVENT
DTSTART;VALUE=DATE:20250414
DTEND;VALUE=DATE:20250715
DTSTAMP:20260422T180233
CREATED:20240123T111755Z
LAST-MODIFIED:20240123T112034Z
UID:10000126-1744588800-1752533999@htff.us
SUMMARY:Example Event 1
DESCRIPTION:
URL:https://htff.us/event/example-event-1/2025-04-14/
ORGANIZER;CN="Rosemary McCoy":MAILTO:mccoy4real.3w1@gmail.com
END:VEVENT
BEGIN:VEVENT
DTSTART;VALUE=DATE:20250407
DTEND;VALUE=DATE:20250708
DTSTAMP:20260422T180233
CREATED:20240123T111755Z
LAST-MODIFIED:20240123T112034Z
UID:10000125-1743984000-1751929199@htff.us
SUMMARY:Example Event 1
DESCRIPTION:
URL:https://htff.us/event/example-event-1/2025-04-07/
ORGANIZER;CN="Rosemary McCoy":MAILTO:mccoy4real.3w1@gmail.com
END:VEVENT
BEGIN:VEVENT
DTSTART;VALUE=DATE:20250331
DTEND;VALUE=DATE:20250701
DTSTAMP:20260422T180233
CREATED:20240123T111755Z
LAST-MODIFIED:20240123T112034Z
UID:10000124-1743379200-1751324399@htff.us
SUMMARY:Example Event 1
DESCRIPTION:
URL:https://htff.us/event/example-event-1/2025-03-31/
ORGANIZER;CN="Rosemary McCoy":MAILTO:mccoy4real.3w1@gmail.com
END:VEVENT
BEGIN:VEVENT
DTSTART;VALUE=DATE:20250324
DTEND;VALUE=DATE:20250624
DTSTAMP:20260422T180233
CREATED:20240123T111755Z
LAST-MODIFIED:20240123T112034Z
UID:10000123-1742774400-1750719599@htff.us
SUMMARY:Example Event 1
DESCRIPTION:
URL:https://htff.us/event/example-event-1/2025-03-24/
ORGANIZER;CN="Rosemary McCoy":MAILTO:mccoy4real.3w1@gmail.com
END:VEVENT
BEGIN:VEVENT
DTSTART;VALUE=DATE:20250317
DTEND;VALUE=DATE:20250617
DTSTAMP:20260422T180233
CREATED:20240123T111755Z
LAST-MODIFIED:20240123T112034Z
UID:10000122-1742169600-1750114799@htff.us
SUMMARY:Example Event 1
DESCRIPTION:
URL:https://htff.us/event/example-event-1/2025-03-17/
ORGANIZER;CN="Rosemary McCoy":MAILTO:mccoy4real.3w1@gmail.com
END:VEVENT
BEGIN:VEVENT
DTSTART;VALUE=DATE:20250310
DTEND;VALUE=DATE:20250610
DTSTAMP:20260422T180233
CREATED:20240123T111755Z
LAST-MODIFIED:20240123T112034Z
UID:10000121-1741564800-1749509999@htff.us
SUMMARY:Example Event 1
DESCRIPTION:
URL:https://htff.us/event/example-event-1/2025-03-10/
ORGANIZER;CN="Rosemary McCoy":MAILTO:mccoy4real.3w1@gmail.com
END:VEVENT
BEGIN:VEVENT
DTSTART;VALUE=DATE:20250303
DTEND;VALUE=DATE:20250603
DTSTAMP:20260422T180233
CREATED:20240123T111755Z
LAST-MODIFIED:20240123T112034Z
UID:10000120-1740960000-1748905199@htff.us
SUMMARY:Example Event 1
DESCRIPTION:
URL:https://htff.us/event/example-event-1/2025-03-03/
ORGANIZER;CN="Rosemary McCoy":MAILTO:mccoy4real.3w1@gmail.com
END:VEVENT
BEGIN:VEVENT
DTSTART;VALUE=DATE:20250224
DTEND;VALUE=DATE:20250527
DTSTAMP:20260422T180233
CREATED:20240123T111755Z
LAST-MODIFIED:20240123T112034Z
UID:10000119-1740355200-1748300399@htff.us
SUMMARY:Example Event 1
DESCRIPTION:
URL:https://htff.us/event/example-event-1/2025-02-24/
ORGANIZER;CN="Rosemary McCoy":MAILTO:mccoy4real.3w1@gmail.com
END:VEVENT
BEGIN:VEVENT
DTSTART;VALUE=DATE:20250217
DTEND;VALUE=DATE:20250520
DTSTAMP:20260422T180233
CREATED:20240123T111755Z
LAST-MODIFIED:20240123T112034Z
UID:10000118-1739750400-1747695599@htff.us
SUMMARY:Example Event 1
DESCRIPTION:
URL:https://htff.us/event/example-event-1/2025-02-17/
ORGANIZER;CN="Rosemary McCoy":MAILTO:mccoy4real.3w1@gmail.com
END:VEVENT
BEGIN:VEVENT
DTSTART;VALUE=DATE:20250210
DTEND;VALUE=DATE:20250513
DTSTAMP:20260422T180233
CREATED:20240123T111755Z
LAST-MODIFIED:20240123T112034Z
UID:10000117-1739145600-1747090799@htff.us
SUMMARY:Example Event 1
DESCRIPTION:
URL:https://htff.us/event/example-event-1/2025-02-10/
ORGANIZER;CN="Rosemary McCoy":MAILTO:mccoy4real.3w1@gmail.com
END:VEVENT
BEGIN:VEVENT
DTSTART;VALUE=DATE:20250203
DTEND;VALUE=DATE:20250506
DTSTAMP:20260422T180233
CREATED:20240123T111755Z
LAST-MODIFIED:20240123T112034Z
UID:10000116-1738540800-1746485999@htff.us
SUMMARY:Example Event 1
DESCRIPTION:
URL:https://htff.us/event/example-event-1/2025-02-03/
ORGANIZER;CN="Rosemary McCoy":MAILTO:mccoy4real.3w1@gmail.com
END:VEVENT
BEGIN:VEVENT
DTSTART;VALUE=DATE:20250127
DTEND;VALUE=DATE:20250429
DTSTAMP:20260422T180233
CREATED:20240123T111755Z
LAST-MODIFIED:20240123T112034Z
UID:10000115-1737936000-1745881199@htff.us
SUMMARY:Example Event 1
DESCRIPTION:
URL:https://htff.us/event/example-event-1/2025-01-27/
ORGANIZER;CN="Rosemary McCoy":MAILTO:mccoy4real.3w1@gmail.com
END:VEVENT
BEGIN:VEVENT
DTSTART;VALUE=DATE:20250120
DTEND;VALUE=DATE:20250422
DTSTAMP:20260422T180233
CREATED:20240123T111755Z
LAST-MODIFIED:20240123T112034Z
UID:10000114-1737331200-1745276399@htff.us
SUMMARY:Example Event 1
DESCRIPTION:
URL:https://htff.us/event/example-event-1/2025-01-20/
ORGANIZER;CN="Rosemary McCoy":MAILTO:mccoy4real.3w1@gmail.com
END:VEVENT
BEGIN:VEVENT
DTSTART;VALUE=DATE:20250113
DTEND;VALUE=DATE:20250415
DTSTAMP:20260422T180233
CREATED:20240123T111755Z
LAST-MODIFIED:20240123T112034Z
UID:10000113-1736726400-1744671599@htff.us
SUMMARY:Example Event 1
DESCRIPTION:
URL:https://htff.us/event/example-event-1/2025-01-13/
ORGANIZER;CN="Rosemary McCoy":MAILTO:mccoy4real.3w1@gmail.com
END:VEVENT
BEGIN:VEVENT
DTSTART;VALUE=DATE:20250106
DTEND;VALUE=DATE:20250408
DTSTAMP:20260422T180233
CREATED:20240123T111755Z
LAST-MODIFIED:20240123T112034Z
UID:10000112-1736121600-1744066799@htff.us
SUMMARY:Example Event 1
DESCRIPTION:
URL:https://htff.us/event/example-event-1/2025-01-06/
ORGANIZER;CN="Rosemary McCoy":MAILTO:mccoy4real.3w1@gmail.com
END:VEVENT
BEGIN:VEVENT
DTSTART;VALUE=DATE:20241230
DTEND;VALUE=DATE:20250401
DTSTAMP:20260422T180233
CREATED:20240123T111755Z
LAST-MODIFIED:20240123T112034Z
UID:10000111-1735516800-1743461999@htff.us
SUMMARY:Example Event 1
DESCRIPTION:
URL:https://htff.us/event/example-event-1/2024-12-30/
ORGANIZER;CN="Rosemary McCoy":MAILTO:mccoy4real.3w1@gmail.com
END:VEVENT
BEGIN:VEVENT
DTSTART;VALUE=DATE:20241223
DTEND;VALUE=DATE:20250325
DTSTAMP:20260422T180233
CREATED:20240123T111755Z
LAST-MODIFIED:20240123T112034Z
UID:10000110-1734912000-1742857199@htff.us
SUMMARY:Example Event 1
DESCRIPTION:
URL:https://htff.us/event/example-event-1/2024-12-23/
ORGANIZER;CN="Rosemary McCoy":MAILTO:mccoy4real.3w1@gmail.com
END:VEVENT
BEGIN:VEVENT
DTSTART;VALUE=DATE:20241216
DTEND;VALUE=DATE:20250318
DTSTAMP:20260422T180233
CREATED:20240123T111755Z
LAST-MODIFIED:20240123T112034Z
UID:10000109-1734307200-1742252399@htff.us
SUMMARY:Example Event 1
DESCRIPTION:
URL:https://htff.us/event/example-event-1/2024-12-16/
ORGANIZER;CN="Rosemary McCoy":MAILTO:mccoy4real.3w1@gmail.com
END:VEVENT
BEGIN:VEVENT
DTSTART;VALUE=DATE:20241209
DTEND;VALUE=DATE:20250311
DTSTAMP:20260422T180233
CREATED:20240123T111755Z
LAST-MODIFIED:20240123T112034Z
UID:10000108-1733702400-1741647599@htff.us
SUMMARY:Example Event 1
DESCRIPTION:
URL:https://htff.us/event/example-event-1/2024-12-09/
ORGANIZER;CN="Rosemary McCoy":MAILTO:mccoy4real.3w1@gmail.com
END:VEVENT
BEGIN:VEVENT
DTSTART;VALUE=DATE:20241202
DTEND;VALUE=DATE:20250304
DTSTAMP:20260422T180233
CREATED:20240123T111755Z
LAST-MODIFIED:20240123T112034Z
UID:10000107-1733097600-1741042799@htff.us
SUMMARY:Example Event 1
DESCRIPTION:
URL:https://htff.us/event/example-event-1/2024-12-02/
ORGANIZER;CN="Rosemary McCoy":MAILTO:mccoy4real.3w1@gmail.com
END:VEVENT
END:VCALENDAR