BEGIN:VCALENDAR
VERSION:2.0
PRODID:-//Harriet Tubman Freedom Fighters - ECPv6.15.20//NONSGML v1.0//EN
CALSCALE:GREGORIAN
METHOD:PUBLISH
X-ORIGINAL-URL:https://htff.us
X-WR-CALDESC:Events for Harriet Tubman Freedom Fighters
REFRESH-INTERVAL;VALUE=DURATION:PT1H
X-Robots-Tag:noindex
X-PUBLISHED-TTL:PT1H
BEGIN:VTIMEZONE
TZID:America/New_York
BEGIN:DAYLIGHT
TZOFFSETFROM:-0500
TZOFFSETTO:-0400
TZNAME:EDT
DTSTART:20250309T070000
END:DAYLIGHT
BEGIN:STANDARD
TZOFFSETFROM:-0400
TZOFFSETTO:-0500
TZNAME:EST
DTSTART:20251102T060000
END:STANDARD
BEGIN:DAYLIGHT
TZOFFSETFROM:-0500
TZOFFSETTO:-0400
TZNAME:EDT
DTSTART:20260308T070000
END:DAYLIGHT
BEGIN:STANDARD
TZOFFSETFROM:-0400
TZOFFSETTO:-0500
TZNAME:EST
DTSTART:20261101T060000
END:STANDARD
BEGIN:DAYLIGHT
TZOFFSETFROM:-0500
TZOFFSETTO:-0400
TZNAME:EDT
DTSTART:20270314T070000
END:DAYLIGHT
BEGIN:STANDARD
TZOFFSETFROM:-0400
TZOFFSETTO:-0500
TZNAME:EST
DTSTART:20271107T060000
END:STANDARD
END:VTIMEZONE
BEGIN:VEVENT
DTSTART;TZID=America/New_York:20260321T110000
DTEND;TZID=America/New_York:20260321T160000
DTSTAMP:20260422T180226
CREATED:20260226T162753Z
LAST-MODIFIED:20260226T163131Z
UID:10000139-1774090800-1774108800@htff.us
SUMMARY:Grand Park Community Resource Health Fair
DESCRIPTION:Connecting families to vital health services and community resources. This health fair is designed to be a one-stop shop for families seeking information\, support\, and access to resources that can improve their overall well-being. We will have representatives from various organizations offering information on health insurance\, mental health support\, financial literacy\, and local community programs. Attendees can expect a welcoming and informative environment where they can learn\, connect\, and find the resources they need to thrive.
URL:https://htff.us/event/htff-invites-everyone-in-the-community-to-join-us/
LOCATION:Johnnie Walker Community Center\, 2500 W 20th St\, Jacksonville\, FL\, 32209\, United States
ATTACH;FMTTYPE=image/webp:https://htff.us/wp-content/uploads/2023/09/GMG2B-2BHTFF2BWhite2BLogo-1.webp
END:VEVENT
BEGIN:VEVENT
DTSTART;TZID=America/New_York:20260311T110000
DTEND;TZID=America/New_York:20260311T140000
DTSTAMP:20260422T180226
CREATED:20260226T153917Z
LAST-MODIFIED:20260226T154731Z
UID:10000137-1773226800-1773237600@htff.us
SUMMARY:Women’s History Celebration
DESCRIPTION:
URL:https://htff.us/event/womens-history-celebration/
LOCATION:FSCJ South Campus Bldg\, U Corridor\, Jacksonville\, FL\, United States
ATTACH;FMTTYPE=image/webp:https://htff.us/wp-content/uploads/2026/02/image-asset.webp
ORGANIZER;CN="Rosemary McCoy":MAILTO:mccoy4real.3w1@gmail.com
END:VEVENT
BEGIN:VEVENT
DTSTART;TZID=America/New_York:20260307T080000
DTEND;TZID=America/New_York:20260307T130000
DTSTAMP:20260422T180227
CREATED:20260226T151112Z
LAST-MODIFIED:20260226T151112Z
UID:10000136-1772870400-1772888400@htff.us
SUMMARY:Grand Park Community Yard Sale (Fundraiser)
DESCRIPTION:HTFF Community Fundraiser\nSupport the Movement. Strengthen the Community. \nHarriet Tubman Freedom Fighters (HTFF) is hosting a community fundraiser to power our ongoing work in civic education\, voter engagement\, environmental justice\, youth programming\, and community outreach. \nEvery dollar raised helps us provide resources\, host educational events\, organize cleanups\, expand voter awareness efforts\, and build partnerships that protect freedom and equity in our neighborhoods. \nWhen you support HTFF\, you’re not just donating — you’re investing in civic empowerment\, informed communities\, and sustainable change. \nJoin us. Give. Share. Show up.Freedom in Motion starts with us.
URL:https://htff.us/event/grand-park-community-yard-sale-fundraiser/
LOCATION:Johnnie Walker Community Center\, 2500 W 20th St\, Jacksonville\, FL\, 32209\, United States
ATTACH;FMTTYPE=image/jpeg:https://htff.us/wp-content/uploads/2026/02/HTFF-Upcoming-Events-Image-by-MszQT.jpg
END:VEVENT
BEGIN:VEVENT
DTSTART;TZID=America/New_York:20260306T100000
DTEND;TZID=America/New_York:20260306T113000
DTSTAMP:20260422T180227
CREATED:20260226T145113Z
LAST-MODIFIED:20260226T145113Z
UID:10000134-1772791200-1772796600@htff.us
SUMMARY:Adopt a Senior/ Democracy Arts and Crafts
DESCRIPTION:March Arts and Craft Flyer \nAdopt a Senior: YCC Adopt A Senior program allows us to bring a personal touch to Seniors by directly providing them with some outside contact\, as well as gifts\, to let them know they belong and are not forgotten
URL:https://htff.us/event/adopt-a-senior-democracy-arts-and-crafts/
LOCATION:Jax   Rehabilitation Center\, FL\, United States
ATTACH;FMTTYPE=application/pdf:https://htff.us/wp-content/uploads/2026/02/March-Arts-and-Craft-Flyer-1.pdf
END:VEVENT
END:VCALENDAR